BEGIN:VCALENDAR
VERSION:2.0
PRODID:Imitheme.com 
BEGIN:VEVENT
UID:20260419T1408471087697539
DTSTAMP;TZID=UTC:2026-04-19 14:08:47
DTSTART;TZID=America/Los_Angeles:20260419T140847
DTEND;TZID=America/Los_Angeles:20260419T140847
SUMMARY:EQUIP 2025 - JULY 10th - 13th
LOCATION:
DESCRIPTION:
URL:https://20thstreetcoc.com/eventer/youth-bible-review-2/
END:VEVENT
END:VCALENDAR
