BEGIN:VCALENDAR
VERSION:2.0
PRODID:Imitheme.com 
BEGIN:VEVENT
UID:20260419T1732231875628917
DTSTAMP;TZID=UTC:2026-04-19 17:32:23
DTSTART;TZID=America/Los_Angeles:20260419T173223
DTEND;TZID=America/Los_Angeles:20260419T173223
SUMMARY:Support Group
LOCATION:
DESCRIPTION:
URL:https://20thstreetcoc.com/eventer/support-group-30/
END:VEVENT
END:VCALENDAR
