BEGIN:VCALENDAR
VERSION:2.0
PRODID:Imitheme.com 
BEGIN:VEVENT
UID:20260424T0653401002502575
DTSTAMP;TZID=UTC:2026-04-24 06:53:40
DTSTART;TZID=America/Los_Angeles:20260424T065340
DTEND;TZID=America/Los_Angeles:20260424T065340
SUMMARY:No Teacher's Meeting
LOCATION:
DESCRIPTION:
URL:https://20thstreetcoc.com/eventer/support-group-13/
END:VEVENT
END:VCALENDAR
